BEGIN:VCALENDAR
VERSION:2.0
PRODID:-//River of Life Church - ECPv6.15.18//NONSGML v1.0//EN
CALSCALE:GREGORIAN
METHOD:PUBLISH
X-WR-CALNAME:River of Life Church
X-ORIGINAL-URL:https://roltampa.org
X-WR-CALDESC:Events for River of Life Church
REFRESH-INTERVAL;VALUE=DURATION:PT1H
X-Robots-Tag:noindex
X-PUBLISHED-TTL:PT1H
BEGIN:VTIMEZONE
TZID:America/New_York
BEGIN:DAYLIGHT
TZOFFSETFROM:-0500
TZOFFSETTO:-0400
TZNAME:EDT
DTSTART:20250309T070000
END:DAYLIGHT
BEGIN:STANDARD
TZOFFSETFROM:-0400
TZOFFSETTO:-0500
TZNAME:EST
DTSTART:20251102T060000
END:STANDARD
BEGIN:DAYLIGHT
TZOFFSETFROM:-0500
TZOFFSETTO:-0400
TZNAME:EDT
DTSTART:20260308T070000
END:DAYLIGHT
BEGIN:STANDARD
TZOFFSETFROM:-0400
TZOFFSETTO:-0500
TZNAME:EST
DTSTART:20261101T060000
END:STANDARD
BEGIN:DAYLIGHT
TZOFFSETFROM:-0500
TZOFFSETTO:-0400
TZNAME:EDT
DTSTART:20270314T070000
END:DAYLIGHT
BEGIN:STANDARD
TZOFFSETFROM:-0400
TZOFFSETTO:-0500
TZNAME:EST
DTSTART:20271107T060000
END:STANDARD
END:VTIMEZONE
BEGIN:VEVENT
DTSTART;TZID=America/New_York:20260423T060000
DTEND;TZID=America/New_York:20260423T070000
DTSTAMP:20260421T191013
CREATED:20260114T223250Z
LAST-MODIFIED:20260114T223250Z
UID:10005129-1776924000-1776927600@roltampa.org
SUMMARY:Men's Fellowship & Prayer
DESCRIPTION:
URL:https://roltampa.org/event/mens-fellowship-prayer/2026-04-23/
LOCATION:River of Life Church\, 410 East Chapman Road\, Lutz\, FL\, 33549\, United States
CATEGORIES:Services
ATTACH;FMTTYPE=image/jpeg:https://roltampa.org/wp-content/uploads/2025/01/sitepost_menprayer_optimized.jpg
ORGANIZER;CN="River of Life Church":MAILTO:info@roltampa.org
END:VEVENT
BEGIN:VEVENT
DTSTART;TZID=America/New_York:20260430T060000
DTEND;TZID=America/New_York:20260430T070000
DTSTAMP:20260421T191013
CREATED:20260114T223250Z
LAST-MODIFIED:20260114T223250Z
UID:10005130-1777528800-1777532400@roltampa.org
SUMMARY:Men's Fellowship & Prayer
DESCRIPTION:
URL:https://roltampa.org/event/mens-fellowship-prayer/2026-04-30/
LOCATION:River of Life Church\, 410 East Chapman Road\, Lutz\, FL\, 33549\, United States
CATEGORIES:Services
ATTACH;FMTTYPE=image/jpeg:https://roltampa.org/wp-content/uploads/2025/01/sitepost_menprayer_optimized.jpg
ORGANIZER;CN="River of Life Church":MAILTO:info@roltampa.org
END:VEVENT
BEGIN:VEVENT
DTSTART;TZID=America/New_York:20260507T060000
DTEND;TZID=America/New_York:20260507T070000
DTSTAMP:20260421T191013
CREATED:20260114T223250Z
LAST-MODIFIED:20260114T223250Z
UID:10005131-1778133600-1778137200@roltampa.org
SUMMARY:Men's Fellowship & Prayer
DESCRIPTION:
URL:https://roltampa.org/event/mens-fellowship-prayer/2026-05-07/
LOCATION:River of Life Church\, 410 East Chapman Road\, Lutz\, FL\, 33549\, United States
CATEGORIES:Services
ATTACH;FMTTYPE=image/jpeg:https://roltampa.org/wp-content/uploads/2025/01/sitepost_menprayer_optimized.jpg
ORGANIZER;CN="River of Life Church":MAILTO:info@roltampa.org
END:VEVENT
BEGIN:VEVENT
DTSTART;TZID=America/New_York:20260514T060000
DTEND;TZID=America/New_York:20260514T070000
DTSTAMP:20260421T191013
CREATED:20260114T223250Z
LAST-MODIFIED:20260114T223250Z
UID:10005132-1778738400-1778742000@roltampa.org
SUMMARY:Men's Fellowship & Prayer
DESCRIPTION:
URL:https://roltampa.org/event/mens-fellowship-prayer/2026-05-14/
LOCATION:River of Life Church\, 410 East Chapman Road\, Lutz\, FL\, 33549\, United States
CATEGORIES:Services
ATTACH;FMTTYPE=image/jpeg:https://roltampa.org/wp-content/uploads/2025/01/sitepost_menprayer_optimized.jpg
ORGANIZER;CN="River of Life Church":MAILTO:info@roltampa.org
END:VEVENT
BEGIN:VEVENT
DTSTART;TZID=America/New_York:20260521T060000
DTEND;TZID=America/New_York:20260521T070000
DTSTAMP:20260421T191013
CREATED:20260114T223250Z
LAST-MODIFIED:20260114T223250Z
UID:10005133-1779343200-1779346800@roltampa.org
SUMMARY:Men's Fellowship & Prayer
DESCRIPTION:
URL:https://roltampa.org/event/mens-fellowship-prayer/2026-05-21/
LOCATION:River of Life Church\, 410 East Chapman Road\, Lutz\, FL\, 33549\, United States
CATEGORIES:Services
ATTACH;FMTTYPE=image/jpeg:https://roltampa.org/wp-content/uploads/2025/01/sitepost_menprayer_optimized.jpg
ORGANIZER;CN="River of Life Church":MAILTO:info@roltampa.org
END:VEVENT
BEGIN:VEVENT
DTSTART;TZID=America/New_York:20260528T060000
DTEND;TZID=America/New_York:20260528T070000
DTSTAMP:20260421T191013
CREATED:20260114T223250Z
LAST-MODIFIED:20260114T223250Z
UID:10005134-1779948000-1779951600@roltampa.org
SUMMARY:Men's Fellowship & Prayer
DESCRIPTION:
URL:https://roltampa.org/event/mens-fellowship-prayer/2026-05-28/
LOCATION:River of Life Church\, 410 East Chapman Road\, Lutz\, FL\, 33549\, United States
CATEGORIES:Services
ATTACH;FMTTYPE=image/jpeg:https://roltampa.org/wp-content/uploads/2025/01/sitepost_menprayer_optimized.jpg
ORGANIZER;CN="River of Life Church":MAILTO:info@roltampa.org
END:VEVENT
BEGIN:VEVENT
DTSTART;TZID=America/New_York:20260604T060000
DTEND;TZID=America/New_York:20260604T070000
DTSTAMP:20260421T191013
CREATED:20260114T223250Z
LAST-MODIFIED:20260114T223250Z
UID:10005135-1780552800-1780556400@roltampa.org
SUMMARY:Men's Fellowship & Prayer
DESCRIPTION:
URL:https://roltampa.org/event/mens-fellowship-prayer/2026-06-04/
LOCATION:River of Life Church\, 410 East Chapman Road\, Lutz\, FL\, 33549\, United States
CATEGORIES:Services
ATTACH;FMTTYPE=image/jpeg:https://roltampa.org/wp-content/uploads/2025/01/sitepost_menprayer_optimized.jpg
ORGANIZER;CN="River of Life Church":MAILTO:info@roltampa.org
END:VEVENT
BEGIN:VEVENT
DTSTART;TZID=America/New_York:20260611T060000
DTEND;TZID=America/New_York:20260611T070000
DTSTAMP:20260421T191013
CREATED:20260114T223250Z
LAST-MODIFIED:20260114T223250Z
UID:10005136-1781157600-1781161200@roltampa.org
SUMMARY:Men's Fellowship & Prayer
DESCRIPTION:
URL:https://roltampa.org/event/mens-fellowship-prayer/2026-06-11/
LOCATION:River of Life Church\, 410 East Chapman Road\, Lutz\, FL\, 33549\, United States
CATEGORIES:Services
ATTACH;FMTTYPE=image/jpeg:https://roltampa.org/wp-content/uploads/2025/01/sitepost_menprayer_optimized.jpg
ORGANIZER;CN="River of Life Church":MAILTO:info@roltampa.org
END:VEVENT
BEGIN:VEVENT
DTSTART;TZID=America/New_York:20260618T060000
DTEND;TZID=America/New_York:20260618T070000
DTSTAMP:20260421T191013
CREATED:20260114T223250Z
LAST-MODIFIED:20260114T223250Z
UID:10005137-1781762400-1781766000@roltampa.org
SUMMARY:Men's Fellowship & Prayer
DESCRIPTION:
URL:https://roltampa.org/event/mens-fellowship-prayer/2026-06-18/
LOCATION:River of Life Church\, 410 East Chapman Road\, Lutz\, FL\, 33549\, United States
CATEGORIES:Services
ATTACH;FMTTYPE=image/jpeg:https://roltampa.org/wp-content/uploads/2025/01/sitepost_menprayer_optimized.jpg
ORGANIZER;CN="River of Life Church":MAILTO:info@roltampa.org
END:VEVENT
BEGIN:VEVENT
DTSTART;TZID=America/New_York:20260625T060000
DTEND;TZID=America/New_York:20260625T070000
DTSTAMP:20260421T191013
CREATED:20260114T223250Z
LAST-MODIFIED:20260114T223250Z
UID:10005138-1782367200-1782370800@roltampa.org
SUMMARY:Men's Fellowship & Prayer
DESCRIPTION:
URL:https://roltampa.org/event/mens-fellowship-prayer/2026-06-25/
LOCATION:River of Life Church\, 410 East Chapman Road\, Lutz\, FL\, 33549\, United States
CATEGORIES:Services
ATTACH;FMTTYPE=image/jpeg:https://roltampa.org/wp-content/uploads/2025/01/sitepost_menprayer_optimized.jpg
ORGANIZER;CN="River of Life Church":MAILTO:info@roltampa.org
END:VEVENT
BEGIN:VEVENT
DTSTART;TZID=America/New_York:20260702T060000
DTEND;TZID=America/New_York:20260702T070000
DTSTAMP:20260421T191013
CREATED:20260114T223250Z
LAST-MODIFIED:20260114T223250Z
UID:10005139-1782972000-1782975600@roltampa.org
SUMMARY:Men's Fellowship & Prayer
DESCRIPTION:
URL:https://roltampa.org/event/mens-fellowship-prayer/2026-07-02/
LOCATION:River of Life Church\, 410 East Chapman Road\, Lutz\, FL\, 33549\, United States
CATEGORIES:Services
ATTACH;FMTTYPE=image/jpeg:https://roltampa.org/wp-content/uploads/2025/01/sitepost_menprayer_optimized.jpg
ORGANIZER;CN="River of Life Church":MAILTO:info@roltampa.org
END:VEVENT
BEGIN:VEVENT
DTSTART;TZID=America/New_York:20260709T060000
DTEND;TZID=America/New_York:20260709T070000
DTSTAMP:20260421T191013
CREATED:20260114T223250Z
LAST-MODIFIED:20260114T223250Z
UID:10005140-1783576800-1783580400@roltampa.org
SUMMARY:Men's Fellowship & Prayer
DESCRIPTION:
URL:https://roltampa.org/event/mens-fellowship-prayer/2026-07-09/
LOCATION:River of Life Church\, 410 East Chapman Road\, Lutz\, FL\, 33549\, United States
CATEGORIES:Services
ATTACH;FMTTYPE=image/jpeg:https://roltampa.org/wp-content/uploads/2025/01/sitepost_menprayer_optimized.jpg
ORGANIZER;CN="River of Life Church":MAILTO:info@roltampa.org
END:VEVENT
BEGIN:VEVENT
DTSTART;TZID=America/New_York:20260716T060000
DTEND;TZID=America/New_York:20260716T070000
DTSTAMP:20260421T191013
CREATED:20260114T223250Z
LAST-MODIFIED:20260114T223250Z
UID:10005141-1784181600-1784185200@roltampa.org
SUMMARY:Men's Fellowship & Prayer
DESCRIPTION:
URL:https://roltampa.org/event/mens-fellowship-prayer/2026-07-16/
LOCATION:River of Life Church\, 410 East Chapman Road\, Lutz\, FL\, 33549\, United States
CATEGORIES:Services
ATTACH;FMTTYPE=image/jpeg:https://roltampa.org/wp-content/uploads/2025/01/sitepost_menprayer_optimized.jpg
ORGANIZER;CN="River of Life Church":MAILTO:info@roltampa.org
END:VEVENT
BEGIN:VEVENT
DTSTART;TZID=America/New_York:20260723T060000
DTEND;TZID=America/New_York:20260723T070000
DTSTAMP:20260421T191013
CREATED:20260114T223250Z
LAST-MODIFIED:20260114T223250Z
UID:10005142-1784786400-1784790000@roltampa.org
SUMMARY:Men's Fellowship & Prayer
DESCRIPTION:
URL:https://roltampa.org/event/mens-fellowship-prayer/2026-07-23/
LOCATION:River of Life Church\, 410 East Chapman Road\, Lutz\, FL\, 33549\, United States
CATEGORIES:Services
ATTACH;FMTTYPE=image/jpeg:https://roltampa.org/wp-content/uploads/2025/01/sitepost_menprayer_optimized.jpg
ORGANIZER;CN="River of Life Church":MAILTO:info@roltampa.org
END:VEVENT
BEGIN:VEVENT
DTSTART;TZID=America/New_York:20260730T060000
DTEND;TZID=America/New_York:20260730T070000
DTSTAMP:20260421T191013
CREATED:20260114T223250Z
LAST-MODIFIED:20260114T223250Z
UID:10005143-1785391200-1785394800@roltampa.org
SUMMARY:Men's Fellowship & Prayer
DESCRIPTION:
URL:https://roltampa.org/event/mens-fellowship-prayer/2026-07-30/
LOCATION:River of Life Church\, 410 East Chapman Road\, Lutz\, FL\, 33549\, United States
CATEGORIES:Services
ATTACH;FMTTYPE=image/jpeg:https://roltampa.org/wp-content/uploads/2025/01/sitepost_menprayer_optimized.jpg
ORGANIZER;CN="River of Life Church":MAILTO:info@roltampa.org
END:VEVENT
BEGIN:VEVENT
DTSTART;TZID=America/New_York:20260806T060000
DTEND;TZID=America/New_York:20260806T070000
DTSTAMP:20260421T191013
CREATED:20260114T223250Z
LAST-MODIFIED:20260114T223250Z
UID:10005144-1785996000-1785999600@roltampa.org
SUMMARY:Men's Fellowship & Prayer
DESCRIPTION:
URL:https://roltampa.org/event/mens-fellowship-prayer/2026-08-06/
LOCATION:River of Life Church\, 410 East Chapman Road\, Lutz\, FL\, 33549\, United States
CATEGORIES:Services
ATTACH;FMTTYPE=image/jpeg:https://roltampa.org/wp-content/uploads/2025/01/sitepost_menprayer_optimized.jpg
ORGANIZER;CN="River of Life Church":MAILTO:info@roltampa.org
END:VEVENT
BEGIN:VEVENT
DTSTART;TZID=America/New_York:20260813T060000
DTEND;TZID=America/New_York:20260813T070000
DTSTAMP:20260421T191013
CREATED:20260114T223250Z
LAST-MODIFIED:20260114T223250Z
UID:10005145-1786600800-1786604400@roltampa.org
SUMMARY:Men's Fellowship & Prayer
DESCRIPTION:
URL:https://roltampa.org/event/mens-fellowship-prayer/2026-08-13/
LOCATION:River of Life Church\, 410 East Chapman Road\, Lutz\, FL\, 33549\, United States
CATEGORIES:Services
ATTACH;FMTTYPE=image/jpeg:https://roltampa.org/wp-content/uploads/2025/01/sitepost_menprayer_optimized.jpg
ORGANIZER;CN="River of Life Church":MAILTO:info@roltampa.org
END:VEVENT
BEGIN:VEVENT
DTSTART;TZID=America/New_York:20260820T060000
DTEND;TZID=America/New_York:20260820T070000
DTSTAMP:20260421T191013
CREATED:20260114T223250Z
LAST-MODIFIED:20260114T223250Z
UID:10005146-1787205600-1787209200@roltampa.org
SUMMARY:Men's Fellowship & Prayer
DESCRIPTION:
URL:https://roltampa.org/event/mens-fellowship-prayer/2026-08-20/
LOCATION:River of Life Church\, 410 East Chapman Road\, Lutz\, FL\, 33549\, United States
CATEGORIES:Services
ATTACH;FMTTYPE=image/jpeg:https://roltampa.org/wp-content/uploads/2025/01/sitepost_menprayer_optimized.jpg
ORGANIZER;CN="River of Life Church":MAILTO:info@roltampa.org
END:VEVENT
BEGIN:VEVENT
DTSTART;TZID=America/New_York:20260827T060000
DTEND;TZID=America/New_York:20260827T070000
DTSTAMP:20260421T191013
CREATED:20260114T223250Z
LAST-MODIFIED:20260114T223250Z
UID:10005147-1787810400-1787814000@roltampa.org
SUMMARY:Men's Fellowship & Prayer
DESCRIPTION:
URL:https://roltampa.org/event/mens-fellowship-prayer/2026-08-27/
LOCATION:River of Life Church\, 410 East Chapman Road\, Lutz\, FL\, 33549\, United States
CATEGORIES:Services
ATTACH;FMTTYPE=image/jpeg:https://roltampa.org/wp-content/uploads/2025/01/sitepost_menprayer_optimized.jpg
ORGANIZER;CN="River of Life Church":MAILTO:info@roltampa.org
END:VEVENT
BEGIN:VEVENT
DTSTART;TZID=America/New_York:20260903T060000
DTEND;TZID=America/New_York:20260903T070000
DTSTAMP:20260421T191013
CREATED:20260114T223250Z
LAST-MODIFIED:20260114T223250Z
UID:10005148-1788415200-1788418800@roltampa.org
SUMMARY:Men's Fellowship & Prayer
DESCRIPTION:
URL:https://roltampa.org/event/mens-fellowship-prayer/2026-09-03/
LOCATION:River of Life Church\, 410 East Chapman Road\, Lutz\, FL\, 33549\, United States
CATEGORIES:Services
ATTACH;FMTTYPE=image/jpeg:https://roltampa.org/wp-content/uploads/2025/01/sitepost_menprayer_optimized.jpg
ORGANIZER;CN="River of Life Church":MAILTO:info@roltampa.org
END:VEVENT
BEGIN:VEVENT
DTSTART;TZID=America/New_York:20260910T060000
DTEND;TZID=America/New_York:20260910T070000
DTSTAMP:20260421T191013
CREATED:20260114T223250Z
LAST-MODIFIED:20260114T223250Z
UID:10005149-1789020000-1789023600@roltampa.org
SUMMARY:Men's Fellowship & Prayer
DESCRIPTION:
URL:https://roltampa.org/event/mens-fellowship-prayer/2026-09-10/
LOCATION:River of Life Church\, 410 East Chapman Road\, Lutz\, FL\, 33549\, United States
CATEGORIES:Services
ATTACH;FMTTYPE=image/jpeg:https://roltampa.org/wp-content/uploads/2025/01/sitepost_menprayer_optimized.jpg
ORGANIZER;CN="River of Life Church":MAILTO:info@roltampa.org
END:VEVENT
BEGIN:VEVENT
DTSTART;TZID=America/New_York:20260917T060000
DTEND;TZID=America/New_York:20260917T070000
DTSTAMP:20260421T191013
CREATED:20260114T223250Z
LAST-MODIFIED:20260114T223250Z
UID:10005150-1789624800-1789628400@roltampa.org
SUMMARY:Men's Fellowship & Prayer
DESCRIPTION:
URL:https://roltampa.org/event/mens-fellowship-prayer/2026-09-17/
LOCATION:River of Life Church\, 410 East Chapman Road\, Lutz\, FL\, 33549\, United States
CATEGORIES:Services
ATTACH;FMTTYPE=image/jpeg:https://roltampa.org/wp-content/uploads/2025/01/sitepost_menprayer_optimized.jpg
ORGANIZER;CN="River of Life Church":MAILTO:info@roltampa.org
END:VEVENT
BEGIN:VEVENT
DTSTART;TZID=America/New_York:20260924T060000
DTEND;TZID=America/New_York:20260924T070000
DTSTAMP:20260421T191013
CREATED:20260114T223250Z
LAST-MODIFIED:20260114T223250Z
UID:10005151-1790229600-1790233200@roltampa.org
SUMMARY:Men's Fellowship & Prayer
DESCRIPTION:
URL:https://roltampa.org/event/mens-fellowship-prayer/2026-09-24/
LOCATION:River of Life Church\, 410 East Chapman Road\, Lutz\, FL\, 33549\, United States
CATEGORIES:Services
ATTACH;FMTTYPE=image/jpeg:https://roltampa.org/wp-content/uploads/2025/01/sitepost_menprayer_optimized.jpg
ORGANIZER;CN="River of Life Church":MAILTO:info@roltampa.org
END:VEVENT
BEGIN:VEVENT
DTSTART;TZID=America/New_York:20261001T060000
DTEND;TZID=America/New_York:20261001T070000
DTSTAMP:20260421T191013
CREATED:20260114T223250Z
LAST-MODIFIED:20260114T223250Z
UID:10005152-1790834400-1790838000@roltampa.org
SUMMARY:Men's Fellowship & Prayer
DESCRIPTION:
URL:https://roltampa.org/event/mens-fellowship-prayer/2026-10-01/
LOCATION:River of Life Church\, 410 East Chapman Road\, Lutz\, FL\, 33549\, United States
CATEGORIES:Services
ATTACH;FMTTYPE=image/jpeg:https://roltampa.org/wp-content/uploads/2025/01/sitepost_menprayer_optimized.jpg
ORGANIZER;CN="River of Life Church":MAILTO:info@roltampa.org
END:VEVENT
BEGIN:VEVENT
DTSTART;TZID=America/New_York:20261008T060000
DTEND;TZID=America/New_York:20261008T070000
DTSTAMP:20260421T191013
CREATED:20260114T223250Z
LAST-MODIFIED:20260114T223250Z
UID:10005153-1791439200-1791442800@roltampa.org
SUMMARY:Men's Fellowship & Prayer
DESCRIPTION:
URL:https://roltampa.org/event/mens-fellowship-prayer/2026-10-08/
LOCATION:River of Life Church\, 410 East Chapman Road\, Lutz\, FL\, 33549\, United States
CATEGORIES:Services
ATTACH;FMTTYPE=image/jpeg:https://roltampa.org/wp-content/uploads/2025/01/sitepost_menprayer_optimized.jpg
ORGANIZER;CN="River of Life Church":MAILTO:info@roltampa.org
END:VEVENT
BEGIN:VEVENT
DTSTART;TZID=America/New_York:20261015T060000
DTEND;TZID=America/New_York:20261015T070000
DTSTAMP:20260421T191013
CREATED:20260114T223250Z
LAST-MODIFIED:20260114T223250Z
UID:10005154-1792044000-1792047600@roltampa.org
SUMMARY:Men's Fellowship & Prayer
DESCRIPTION:
URL:https://roltampa.org/event/mens-fellowship-prayer/2026-10-15/
LOCATION:River of Life Church\, 410 East Chapman Road\, Lutz\, FL\, 33549\, United States
CATEGORIES:Services
ATTACH;FMTTYPE=image/jpeg:https://roltampa.org/wp-content/uploads/2025/01/sitepost_menprayer_optimized.jpg
ORGANIZER;CN="River of Life Church":MAILTO:info@roltampa.org
END:VEVENT
BEGIN:VEVENT
DTSTART;TZID=America/New_York:20261022T060000
DTEND;TZID=America/New_York:20261022T070000
DTSTAMP:20260421T191013
CREATED:20260114T223250Z
LAST-MODIFIED:20260114T223250Z
UID:10005155-1792648800-1792652400@roltampa.org
SUMMARY:Men's Fellowship & Prayer
DESCRIPTION:
URL:https://roltampa.org/event/mens-fellowship-prayer/2026-10-22/
LOCATION:River of Life Church\, 410 East Chapman Road\, Lutz\, FL\, 33549\, United States
CATEGORIES:Services
ATTACH;FMTTYPE=image/jpeg:https://roltampa.org/wp-content/uploads/2025/01/sitepost_menprayer_optimized.jpg
ORGANIZER;CN="River of Life Church":MAILTO:info@roltampa.org
END:VEVENT
BEGIN:VEVENT
DTSTART;TZID=America/New_York:20261029T060000
DTEND;TZID=America/New_York:20261029T070000
DTSTAMP:20260421T191013
CREATED:20260114T223250Z
LAST-MODIFIED:20260114T223250Z
UID:10005156-1793253600-1793257200@roltampa.org
SUMMARY:Men's Fellowship & Prayer
DESCRIPTION:
URL:https://roltampa.org/event/mens-fellowship-prayer/2026-10-29/
LOCATION:River of Life Church\, 410 East Chapman Road\, Lutz\, FL\, 33549\, United States
CATEGORIES:Services
ATTACH;FMTTYPE=image/jpeg:https://roltampa.org/wp-content/uploads/2025/01/sitepost_menprayer_optimized.jpg
ORGANIZER;CN="River of Life Church":MAILTO:info@roltampa.org
END:VEVENT
BEGIN:VEVENT
DTSTART;TZID=America/New_York:20261105T060000
DTEND;TZID=America/New_York:20261105T070000
DTSTAMP:20260421T191013
CREATED:20260114T223250Z
LAST-MODIFIED:20260114T223250Z
UID:10005157-1793858400-1793862000@roltampa.org
SUMMARY:Men's Fellowship & Prayer
DESCRIPTION:
URL:https://roltampa.org/event/mens-fellowship-prayer/2026-11-05/
LOCATION:River of Life Church\, 410 East Chapman Road\, Lutz\, FL\, 33549\, United States
CATEGORIES:Services
ATTACH;FMTTYPE=image/jpeg:https://roltampa.org/wp-content/uploads/2025/01/sitepost_menprayer_optimized.jpg
ORGANIZER;CN="River of Life Church":MAILTO:info@roltampa.org
END:VEVENT
BEGIN:VEVENT
DTSTART;TZID=America/New_York:20261112T060000
DTEND;TZID=America/New_York:20261112T070000
DTSTAMP:20260421T191013
CREATED:20260114T223250Z
LAST-MODIFIED:20260114T223250Z
UID:10005158-1794463200-1794466800@roltampa.org
SUMMARY:Men's Fellowship & Prayer
DESCRIPTION:
URL:https://roltampa.org/event/mens-fellowship-prayer/2026-11-12/
LOCATION:River of Life Church\, 410 East Chapman Road\, Lutz\, FL\, 33549\, United States
CATEGORIES:Services
ATTACH;FMTTYPE=image/jpeg:https://roltampa.org/wp-content/uploads/2025/01/sitepost_menprayer_optimized.jpg
ORGANIZER;CN="River of Life Church":MAILTO:info@roltampa.org
END:VEVENT
END:VCALENDAR