BEGIN:VCALENDAR
VERSION:2.0
PRODID:-//River of Life Church - ECPv6.15.18//NONSGML v1.0//EN
CALSCALE:GREGORIAN
METHOD:PUBLISH
X-WR-CALNAME:River of Life Church
X-ORIGINAL-URL:https://roltampa.org
X-WR-CALDESC:Events for River of Life Church
REFRESH-INTERVAL;VALUE=DURATION:PT1H
X-Robots-Tag:noindex
X-PUBLISHED-TTL:PT1H
BEGIN:VTIMEZONE
TZID:America/New_York
BEGIN:DAYLIGHT
TZOFFSETFROM:-0500
TZOFFSETTO:-0400
TZNAME:EDT
DTSTART:20250309T070000
END:DAYLIGHT
BEGIN:STANDARD
TZOFFSETFROM:-0400
TZOFFSETTO:-0500
TZNAME:EST
DTSTART:20251102T060000
END:STANDARD
BEGIN:DAYLIGHT
TZOFFSETFROM:-0500
TZOFFSETTO:-0400
TZNAME:EDT
DTSTART:20260308T070000
END:DAYLIGHT
BEGIN:STANDARD
TZOFFSETFROM:-0400
TZOFFSETTO:-0500
TZNAME:EST
DTSTART:20261101T060000
END:STANDARD
BEGIN:DAYLIGHT
TZOFFSETFROM:-0500
TZOFFSETTO:-0400
TZNAME:EDT
DTSTART:20270314T070000
END:DAYLIGHT
BEGIN:STANDARD
TZOFFSETFROM:-0400
TZOFFSETTO:-0500
TZNAME:EST
DTSTART:20271107T060000
END:STANDARD
END:VTIMEZONE
BEGIN:VEVENT
DTSTART;TZID=America/New_York:20260422T190000
DTEND;TZID=America/New_York:20260422T203000
DTSTAMP:20260421T203140
CREATED:20260114T222738Z
LAST-MODIFIED:20260114T223008Z
UID:10004084-1776884400-1776889800@roltampa.org
SUMMARY:Real Life
DESCRIPTION:
URL:https://roltampa.org/event/real-life-2/2026-04-22/
LOCATION:River of Life Church\, 410 East Chapman Road\, Lutz\, FL\, 33549\, United States
CATEGORIES:Services
ATTACH;FMTTYPE=image/jpeg:https://roltampa.org/wp-content/uploads/2024/10/reallife_generic_optimized.jpg
ORGANIZER;CN="River of Life Church":MAILTO:info@roltampa.org
END:VEVENT
BEGIN:VEVENT
DTSTART;TZID=America/New_York:20260429T190000
DTEND;TZID=America/New_York:20260429T203000
DTSTAMP:20260421T203140
CREATED:20260114T222738Z
LAST-MODIFIED:20260114T223008Z
UID:10004085-1777489200-1777494600@roltampa.org
SUMMARY:Real Life
DESCRIPTION:
URL:https://roltampa.org/event/real-life-2/2026-04-29/
LOCATION:River of Life Church\, 410 East Chapman Road\, Lutz\, FL\, 33549\, United States
CATEGORIES:Services
ATTACH;FMTTYPE=image/jpeg:https://roltampa.org/wp-content/uploads/2024/10/reallife_generic_optimized.jpg
ORGANIZER;CN="River of Life Church":MAILTO:info@roltampa.org
END:VEVENT
BEGIN:VEVENT
DTSTART;TZID=America/New_York:20260506T190000
DTEND;TZID=America/New_York:20260506T203000
DTSTAMP:20260421T203140
CREATED:20260114T222738Z
LAST-MODIFIED:20260114T223008Z
UID:10004086-1778094000-1778099400@roltampa.org
SUMMARY:Real Life
DESCRIPTION:
URL:https://roltampa.org/event/real-life-2/2026-05-06/
LOCATION:River of Life Church\, 410 East Chapman Road\, Lutz\, FL\, 33549\, United States
CATEGORIES:Services
ATTACH;FMTTYPE=image/jpeg:https://roltampa.org/wp-content/uploads/2024/10/reallife_generic_optimized.jpg
ORGANIZER;CN="River of Life Church":MAILTO:info@roltampa.org
END:VEVENT
BEGIN:VEVENT
DTSTART;TZID=America/New_York:20260513T190000
DTEND;TZID=America/New_York:20260513T203000
DTSTAMP:20260421T203140
CREATED:20260114T222738Z
LAST-MODIFIED:20260114T223008Z
UID:10004087-1778698800-1778704200@roltampa.org
SUMMARY:Real Life
DESCRIPTION:
URL:https://roltampa.org/event/real-life-2/2026-05-13/
LOCATION:River of Life Church\, 410 East Chapman Road\, Lutz\, FL\, 33549\, United States
CATEGORIES:Services
ATTACH;FMTTYPE=image/jpeg:https://roltampa.org/wp-content/uploads/2024/10/reallife_generic_optimized.jpg
ORGANIZER;CN="River of Life Church":MAILTO:info@roltampa.org
END:VEVENT
BEGIN:VEVENT
DTSTART;TZID=America/New_York:20260520T190000
DTEND;TZID=America/New_York:20260520T203000
DTSTAMP:20260421T203140
CREATED:20260114T222738Z
LAST-MODIFIED:20260114T223008Z
UID:10004088-1779303600-1779309000@roltampa.org
SUMMARY:Real Life
DESCRIPTION:
URL:https://roltampa.org/event/real-life-2/2026-05-20/
LOCATION:River of Life Church\, 410 East Chapman Road\, Lutz\, FL\, 33549\, United States
CATEGORIES:Services
ATTACH;FMTTYPE=image/jpeg:https://roltampa.org/wp-content/uploads/2024/10/reallife_generic_optimized.jpg
ORGANIZER;CN="River of Life Church":MAILTO:info@roltampa.org
END:VEVENT
BEGIN:VEVENT
DTSTART;TZID=America/New_York:20260527T190000
DTEND;TZID=America/New_York:20260527T203000
DTSTAMP:20260421T203140
CREATED:20260114T222738Z
LAST-MODIFIED:20260114T223008Z
UID:10004089-1779908400-1779913800@roltampa.org
SUMMARY:Real Life
DESCRIPTION:
URL:https://roltampa.org/event/real-life-2/2026-05-27/
LOCATION:River of Life Church\, 410 East Chapman Road\, Lutz\, FL\, 33549\, United States
CATEGORIES:Services
ATTACH;FMTTYPE=image/jpeg:https://roltampa.org/wp-content/uploads/2024/10/reallife_generic_optimized.jpg
ORGANIZER;CN="River of Life Church":MAILTO:info@roltampa.org
END:VEVENT
BEGIN:VEVENT
DTSTART;TZID=America/New_York:20260603T190000
DTEND;TZID=America/New_York:20260603T203000
DTSTAMP:20260421T203140
CREATED:20260114T222738Z
LAST-MODIFIED:20260114T223008Z
UID:10004090-1780513200-1780518600@roltampa.org
SUMMARY:Real Life
DESCRIPTION:
URL:https://roltampa.org/event/real-life-2/2026-06-03/
LOCATION:River of Life Church\, 410 East Chapman Road\, Lutz\, FL\, 33549\, United States
CATEGORIES:Services
ATTACH;FMTTYPE=image/jpeg:https://roltampa.org/wp-content/uploads/2024/10/reallife_generic_optimized.jpg
ORGANIZER;CN="River of Life Church":MAILTO:info@roltampa.org
END:VEVENT
BEGIN:VEVENT
DTSTART;TZID=America/New_York:20260610T190000
DTEND;TZID=America/New_York:20260610T203000
DTSTAMP:20260421T203140
CREATED:20260114T222738Z
LAST-MODIFIED:20260114T223008Z
UID:10004091-1781118000-1781123400@roltampa.org
SUMMARY:Real Life
DESCRIPTION:
URL:https://roltampa.org/event/real-life-2/2026-06-10/
LOCATION:River of Life Church\, 410 East Chapman Road\, Lutz\, FL\, 33549\, United States
CATEGORIES:Services
ATTACH;FMTTYPE=image/jpeg:https://roltampa.org/wp-content/uploads/2024/10/reallife_generic_optimized.jpg
ORGANIZER;CN="River of Life Church":MAILTO:info@roltampa.org
END:VEVENT
BEGIN:VEVENT
DTSTART;TZID=America/New_York:20260617T190000
DTEND;TZID=America/New_York:20260617T203000
DTSTAMP:20260421T203140
CREATED:20260114T222738Z
LAST-MODIFIED:20260114T223008Z
UID:10004092-1781722800-1781728200@roltampa.org
SUMMARY:Real Life
DESCRIPTION:
URL:https://roltampa.org/event/real-life-2/2026-06-17/
LOCATION:River of Life Church\, 410 East Chapman Road\, Lutz\, FL\, 33549\, United States
CATEGORIES:Services
ATTACH;FMTTYPE=image/jpeg:https://roltampa.org/wp-content/uploads/2024/10/reallife_generic_optimized.jpg
ORGANIZER;CN="River of Life Church":MAILTO:info@roltampa.org
END:VEVENT
BEGIN:VEVENT
DTSTART;TZID=America/New_York:20260624T190000
DTEND;TZID=America/New_York:20260624T203000
DTSTAMP:20260421T203140
CREATED:20260114T222738Z
LAST-MODIFIED:20260114T223008Z
UID:10004093-1782327600-1782333000@roltampa.org
SUMMARY:Real Life
DESCRIPTION:
URL:https://roltampa.org/event/real-life-2/2026-06-24/
LOCATION:River of Life Church\, 410 East Chapman Road\, Lutz\, FL\, 33549\, United States
CATEGORIES:Services
ATTACH;FMTTYPE=image/jpeg:https://roltampa.org/wp-content/uploads/2024/10/reallife_generic_optimized.jpg
ORGANIZER;CN="River of Life Church":MAILTO:info@roltampa.org
END:VEVENT
BEGIN:VEVENT
DTSTART;TZID=America/New_York:20260701T190000
DTEND;TZID=America/New_York:20260701T203000
DTSTAMP:20260421T203140
CREATED:20260114T222738Z
LAST-MODIFIED:20260114T223008Z
UID:10004094-1782932400-1782937800@roltampa.org
SUMMARY:Real Life
DESCRIPTION:
URL:https://roltampa.org/event/real-life-2/2026-07-01/
LOCATION:River of Life Church\, 410 East Chapman Road\, Lutz\, FL\, 33549\, United States
CATEGORIES:Services
ATTACH;FMTTYPE=image/jpeg:https://roltampa.org/wp-content/uploads/2024/10/reallife_generic_optimized.jpg
ORGANIZER;CN="River of Life Church":MAILTO:info@roltampa.org
END:VEVENT
BEGIN:VEVENT
DTSTART;TZID=America/New_York:20260708T190000
DTEND;TZID=America/New_York:20260708T203000
DTSTAMP:20260421T203140
CREATED:20260114T222738Z
LAST-MODIFIED:20260114T223008Z
UID:10004095-1783537200-1783542600@roltampa.org
SUMMARY:Real Life
DESCRIPTION:
URL:https://roltampa.org/event/real-life-2/2026-07-08/
LOCATION:River of Life Church\, 410 East Chapman Road\, Lutz\, FL\, 33549\, United States
CATEGORIES:Services
ATTACH;FMTTYPE=image/jpeg:https://roltampa.org/wp-content/uploads/2024/10/reallife_generic_optimized.jpg
ORGANIZER;CN="River of Life Church":MAILTO:info@roltampa.org
END:VEVENT
BEGIN:VEVENT
DTSTART;TZID=America/New_York:20260715T190000
DTEND;TZID=America/New_York:20260715T203000
DTSTAMP:20260421T203140
CREATED:20260114T222738Z
LAST-MODIFIED:20260114T223008Z
UID:10004096-1784142000-1784147400@roltampa.org
SUMMARY:Real Life
DESCRIPTION:
URL:https://roltampa.org/event/real-life-2/2026-07-15/
LOCATION:River of Life Church\, 410 East Chapman Road\, Lutz\, FL\, 33549\, United States
CATEGORIES:Services
ATTACH;FMTTYPE=image/jpeg:https://roltampa.org/wp-content/uploads/2024/10/reallife_generic_optimized.jpg
ORGANIZER;CN="River of Life Church":MAILTO:info@roltampa.org
END:VEVENT
BEGIN:VEVENT
DTSTART;TZID=America/New_York:20260722T190000
DTEND;TZID=America/New_York:20260722T203000
DTSTAMP:20260421T203140
CREATED:20260114T222738Z
LAST-MODIFIED:20260114T223008Z
UID:10004097-1784746800-1784752200@roltampa.org
SUMMARY:Real Life
DESCRIPTION:
URL:https://roltampa.org/event/real-life-2/2026-07-22/
LOCATION:River of Life Church\, 410 East Chapman Road\, Lutz\, FL\, 33549\, United States
CATEGORIES:Services
ATTACH;FMTTYPE=image/jpeg:https://roltampa.org/wp-content/uploads/2024/10/reallife_generic_optimized.jpg
ORGANIZER;CN="River of Life Church":MAILTO:info@roltampa.org
END:VEVENT
BEGIN:VEVENT
DTSTART;TZID=America/New_York:20260729T190000
DTEND;TZID=America/New_York:20260729T203000
DTSTAMP:20260421T203140
CREATED:20260114T222738Z
LAST-MODIFIED:20260114T223008Z
UID:10004098-1785351600-1785357000@roltampa.org
SUMMARY:Real Life
DESCRIPTION:
URL:https://roltampa.org/event/real-life-2/2026-07-29/
LOCATION:River of Life Church\, 410 East Chapman Road\, Lutz\, FL\, 33549\, United States
CATEGORIES:Services
ATTACH;FMTTYPE=image/jpeg:https://roltampa.org/wp-content/uploads/2024/10/reallife_generic_optimized.jpg
ORGANIZER;CN="River of Life Church":MAILTO:info@roltampa.org
END:VEVENT
BEGIN:VEVENT
DTSTART;TZID=America/New_York:20260805T190000
DTEND;TZID=America/New_York:20260805T203000
DTSTAMP:20260421T203140
CREATED:20260114T222738Z
LAST-MODIFIED:20260114T223008Z
UID:10004099-1785956400-1785961800@roltampa.org
SUMMARY:Real Life
DESCRIPTION:
URL:https://roltampa.org/event/real-life-2/2026-08-05/
LOCATION:River of Life Church\, 410 East Chapman Road\, Lutz\, FL\, 33549\, United States
CATEGORIES:Services
ATTACH;FMTTYPE=image/jpeg:https://roltampa.org/wp-content/uploads/2024/10/reallife_generic_optimized.jpg
ORGANIZER;CN="River of Life Church":MAILTO:info@roltampa.org
END:VEVENT
BEGIN:VEVENT
DTSTART;TZID=America/New_York:20260812T190000
DTEND;TZID=America/New_York:20260812T203000
DTSTAMP:20260421T203140
CREATED:20260114T222738Z
LAST-MODIFIED:20260114T223008Z
UID:10004100-1786561200-1786566600@roltampa.org
SUMMARY:Real Life
DESCRIPTION:
URL:https://roltampa.org/event/real-life-2/2026-08-12/
LOCATION:River of Life Church\, 410 East Chapman Road\, Lutz\, FL\, 33549\, United States
CATEGORIES:Services
ATTACH;FMTTYPE=image/jpeg:https://roltampa.org/wp-content/uploads/2024/10/reallife_generic_optimized.jpg
ORGANIZER;CN="River of Life Church":MAILTO:info@roltampa.org
END:VEVENT
BEGIN:VEVENT
DTSTART;TZID=America/New_York:20260819T190000
DTEND;TZID=America/New_York:20260819T203000
DTSTAMP:20260421T203140
CREATED:20260114T222738Z
LAST-MODIFIED:20260114T223008Z
UID:10004101-1787166000-1787171400@roltampa.org
SUMMARY:Real Life
DESCRIPTION:
URL:https://roltampa.org/event/real-life-2/2026-08-19/
LOCATION:River of Life Church\, 410 East Chapman Road\, Lutz\, FL\, 33549\, United States
CATEGORIES:Services
ATTACH;FMTTYPE=image/jpeg:https://roltampa.org/wp-content/uploads/2024/10/reallife_generic_optimized.jpg
ORGANIZER;CN="River of Life Church":MAILTO:info@roltampa.org
END:VEVENT
BEGIN:VEVENT
DTSTART;TZID=America/New_York:20260826T190000
DTEND;TZID=America/New_York:20260826T203000
DTSTAMP:20260421T203140
CREATED:20260114T222738Z
LAST-MODIFIED:20260114T223008Z
UID:10004102-1787770800-1787776200@roltampa.org
SUMMARY:Real Life
DESCRIPTION:
URL:https://roltampa.org/event/real-life-2/2026-08-26/
LOCATION:River of Life Church\, 410 East Chapman Road\, Lutz\, FL\, 33549\, United States
CATEGORIES:Services
ATTACH;FMTTYPE=image/jpeg:https://roltampa.org/wp-content/uploads/2024/10/reallife_generic_optimized.jpg
ORGANIZER;CN="River of Life Church":MAILTO:info@roltampa.org
END:VEVENT
BEGIN:VEVENT
DTSTART;TZID=America/New_York:20260902T190000
DTEND;TZID=America/New_York:20260902T203000
DTSTAMP:20260421T203140
CREATED:20260114T222738Z
LAST-MODIFIED:20260114T223008Z
UID:10004103-1788375600-1788381000@roltampa.org
SUMMARY:Real Life
DESCRIPTION:
URL:https://roltampa.org/event/real-life-2/2026-09-02/
LOCATION:River of Life Church\, 410 East Chapman Road\, Lutz\, FL\, 33549\, United States
CATEGORIES:Services
ATTACH;FMTTYPE=image/jpeg:https://roltampa.org/wp-content/uploads/2024/10/reallife_generic_optimized.jpg
ORGANIZER;CN="River of Life Church":MAILTO:info@roltampa.org
END:VEVENT
BEGIN:VEVENT
DTSTART;TZID=America/New_York:20260909T190000
DTEND;TZID=America/New_York:20260909T203000
DTSTAMP:20260421T203140
CREATED:20260114T222738Z
LAST-MODIFIED:20260114T223008Z
UID:10004104-1788980400-1788985800@roltampa.org
SUMMARY:Real Life
DESCRIPTION:
URL:https://roltampa.org/event/real-life-2/2026-09-09/
LOCATION:River of Life Church\, 410 East Chapman Road\, Lutz\, FL\, 33549\, United States
CATEGORIES:Services
ATTACH;FMTTYPE=image/jpeg:https://roltampa.org/wp-content/uploads/2024/10/reallife_generic_optimized.jpg
ORGANIZER;CN="River of Life Church":MAILTO:info@roltampa.org
END:VEVENT
BEGIN:VEVENT
DTSTART;TZID=America/New_York:20260916T190000
DTEND;TZID=America/New_York:20260916T203000
DTSTAMP:20260421T203140
CREATED:20260114T222738Z
LAST-MODIFIED:20260114T223008Z
UID:10004105-1789585200-1789590600@roltampa.org
SUMMARY:Real Life
DESCRIPTION:
URL:https://roltampa.org/event/real-life-2/2026-09-16/
LOCATION:River of Life Church\, 410 East Chapman Road\, Lutz\, FL\, 33549\, United States
CATEGORIES:Services
ATTACH;FMTTYPE=image/jpeg:https://roltampa.org/wp-content/uploads/2024/10/reallife_generic_optimized.jpg
ORGANIZER;CN="River of Life Church":MAILTO:info@roltampa.org
END:VEVENT
BEGIN:VEVENT
DTSTART;TZID=America/New_York:20260923T190000
DTEND;TZID=America/New_York:20260923T203000
DTSTAMP:20260421T203140
CREATED:20260114T222738Z
LAST-MODIFIED:20260114T223008Z
UID:10004106-1790190000-1790195400@roltampa.org
SUMMARY:Real Life
DESCRIPTION:
URL:https://roltampa.org/event/real-life-2/2026-09-23/
LOCATION:River of Life Church\, 410 East Chapman Road\, Lutz\, FL\, 33549\, United States
CATEGORIES:Services
ATTACH;FMTTYPE=image/jpeg:https://roltampa.org/wp-content/uploads/2024/10/reallife_generic_optimized.jpg
ORGANIZER;CN="River of Life Church":MAILTO:info@roltampa.org
END:VEVENT
BEGIN:VEVENT
DTSTART;TZID=America/New_York:20260930T190000
DTEND;TZID=America/New_York:20260930T203000
DTSTAMP:20260421T203140
CREATED:20260114T222738Z
LAST-MODIFIED:20260114T223008Z
UID:10004107-1790794800-1790800200@roltampa.org
SUMMARY:Real Life
DESCRIPTION:
URL:https://roltampa.org/event/real-life-2/2026-09-30/
LOCATION:River of Life Church\, 410 East Chapman Road\, Lutz\, FL\, 33549\, United States
CATEGORIES:Services
ATTACH;FMTTYPE=image/jpeg:https://roltampa.org/wp-content/uploads/2024/10/reallife_generic_optimized.jpg
ORGANIZER;CN="River of Life Church":MAILTO:info@roltampa.org
END:VEVENT
BEGIN:VEVENT
DTSTART;TZID=America/New_York:20261007T190000
DTEND;TZID=America/New_York:20261007T203000
DTSTAMP:20260421T203140
CREATED:20260114T222738Z
LAST-MODIFIED:20260114T223008Z
UID:10004108-1791399600-1791405000@roltampa.org
SUMMARY:Real Life
DESCRIPTION:
URL:https://roltampa.org/event/real-life-2/2026-10-07/
LOCATION:River of Life Church\, 410 East Chapman Road\, Lutz\, FL\, 33549\, United States
CATEGORIES:Services
ATTACH;FMTTYPE=image/jpeg:https://roltampa.org/wp-content/uploads/2024/10/reallife_generic_optimized.jpg
ORGANIZER;CN="River of Life Church":MAILTO:info@roltampa.org
END:VEVENT
BEGIN:VEVENT
DTSTART;TZID=America/New_York:20261014T190000
DTEND;TZID=America/New_York:20261014T203000
DTSTAMP:20260421T203140
CREATED:20260114T222738Z
LAST-MODIFIED:20260114T223008Z
UID:10004109-1792004400-1792009800@roltampa.org
SUMMARY:Real Life
DESCRIPTION:
URL:https://roltampa.org/event/real-life-2/2026-10-14/
LOCATION:River of Life Church\, 410 East Chapman Road\, Lutz\, FL\, 33549\, United States
CATEGORIES:Services
ATTACH;FMTTYPE=image/jpeg:https://roltampa.org/wp-content/uploads/2024/10/reallife_generic_optimized.jpg
ORGANIZER;CN="River of Life Church":MAILTO:info@roltampa.org
END:VEVENT
BEGIN:VEVENT
DTSTART;TZID=America/New_York:20261021T190000
DTEND;TZID=America/New_York:20261021T203000
DTSTAMP:20260421T203140
CREATED:20260114T222738Z
LAST-MODIFIED:20260114T223008Z
UID:10004110-1792609200-1792614600@roltampa.org
SUMMARY:Real Life
DESCRIPTION:
URL:https://roltampa.org/event/real-life-2/2026-10-21/
LOCATION:River of Life Church\, 410 East Chapman Road\, Lutz\, FL\, 33549\, United States
CATEGORIES:Services
ATTACH;FMTTYPE=image/jpeg:https://roltampa.org/wp-content/uploads/2024/10/reallife_generic_optimized.jpg
ORGANIZER;CN="River of Life Church":MAILTO:info@roltampa.org
END:VEVENT
BEGIN:VEVENT
DTSTART;TZID=America/New_York:20261028T190000
DTEND;TZID=America/New_York:20261028T203000
DTSTAMP:20260421T203140
CREATED:20260114T222738Z
LAST-MODIFIED:20260114T223008Z
UID:10004111-1793214000-1793219400@roltampa.org
SUMMARY:Real Life
DESCRIPTION:
URL:https://roltampa.org/event/real-life-2/2026-10-28/
LOCATION:River of Life Church\, 410 East Chapman Road\, Lutz\, FL\, 33549\, United States
CATEGORIES:Services
ATTACH;FMTTYPE=image/jpeg:https://roltampa.org/wp-content/uploads/2024/10/reallife_generic_optimized.jpg
ORGANIZER;CN="River of Life Church":MAILTO:info@roltampa.org
END:VEVENT
BEGIN:VEVENT
DTSTART;TZID=America/New_York:20261104T190000
DTEND;TZID=America/New_York:20261104T203000
DTSTAMP:20260421T203140
CREATED:20260114T222738Z
LAST-MODIFIED:20260114T223008Z
UID:10004112-1793818800-1793824200@roltampa.org
SUMMARY:Real Life
DESCRIPTION:
URL:https://roltampa.org/event/real-life-2/2026-11-04/
LOCATION:River of Life Church\, 410 East Chapman Road\, Lutz\, FL\, 33549\, United States
CATEGORIES:Services
ATTACH;FMTTYPE=image/jpeg:https://roltampa.org/wp-content/uploads/2024/10/reallife_generic_optimized.jpg
ORGANIZER;CN="River of Life Church":MAILTO:info@roltampa.org
END:VEVENT
BEGIN:VEVENT
DTSTART;TZID=America/New_York:20261111T190000
DTEND;TZID=America/New_York:20261111T203000
DTSTAMP:20260421T203140
CREATED:20260114T222738Z
LAST-MODIFIED:20260114T223008Z
UID:10004113-1794423600-1794429000@roltampa.org
SUMMARY:Real Life
DESCRIPTION:
URL:https://roltampa.org/event/real-life-2/2026-11-11/
LOCATION:River of Life Church\, 410 East Chapman Road\, Lutz\, FL\, 33549\, United States
CATEGORIES:Services
ATTACH;FMTTYPE=image/jpeg:https://roltampa.org/wp-content/uploads/2024/10/reallife_generic_optimized.jpg
ORGANIZER;CN="River of Life Church":MAILTO:info@roltampa.org
END:VEVENT
END:VCALENDAR