BEGIN:VCALENDAR
VERSION:2.0
PRODID:-//River of Life Church - ECPv6.15.18//NONSGML v1.0//EN
CALSCALE:GREGORIAN
METHOD:PUBLISH
X-WR-CALNAME:River of Life Church
X-ORIGINAL-URL:https://roltampa.org
X-WR-CALDESC:Events for River of Life Church
REFRESH-INTERVAL;VALUE=DURATION:PT1H
X-Robots-Tag:noindex
X-PUBLISHED-TTL:PT1H
BEGIN:VTIMEZONE
TZID:America/New_York
BEGIN:DAYLIGHT
TZOFFSETFROM:-0500
TZOFFSETTO:-0400
TZNAME:EDT
DTSTART:20250309T070000
END:DAYLIGHT
BEGIN:STANDARD
TZOFFSETFROM:-0400
TZOFFSETTO:-0500
TZNAME:EST
DTSTART:20251102T060000
END:STANDARD
BEGIN:DAYLIGHT
TZOFFSETFROM:-0500
TZOFFSETTO:-0400
TZNAME:EDT
DTSTART:20260308T070000
END:DAYLIGHT
BEGIN:STANDARD
TZOFFSETFROM:-0400
TZOFFSETTO:-0500
TZNAME:EST
DTSTART:20261101T060000
END:STANDARD
BEGIN:DAYLIGHT
TZOFFSETFROM:-0500
TZOFFSETTO:-0400
TZNAME:EDT
DTSTART:20270314T070000
END:DAYLIGHT
BEGIN:STANDARD
TZOFFSETFROM:-0400
TZOFFSETTO:-0500
TZNAME:EST
DTSTART:20271107T060000
END:STANDARD
END:VTIMEZONE
BEGIN:VEVENT
DTSTART;TZID=America/New_York:20260426T103000
DTEND;TZID=America/New_York:20260426T120000
DTSTAMP:20260421T233452
CREATED:20241030T131119Z
LAST-MODIFIED:20241030T131328Z
UID:10002909-1777199400-1777204800@roltampa.org
SUMMARY:Sunday Service
DESCRIPTION:
URL:https://roltampa.org/event/sunday-service/2026-04-26/
LOCATION:River of Life Church\, 410 East Chapman Road\, Lutz\, FL\, 33549\, United States
CATEGORIES:Services
ATTACH;FMTTYPE=image/png:https://roltampa.org/wp-content/uploads/2022/11/ROL_Logo_8_20_200_site3.png
ORGANIZER;CN="River of Life Church":MAILTO:info@roltampa.org
END:VEVENT
BEGIN:VEVENT
DTSTART;TZID=America/New_York:20260503T103000
DTEND;TZID=America/New_York:20260503T120000
DTSTAMP:20260421T233452
CREATED:20241030T131119Z
LAST-MODIFIED:20241030T131328Z
UID:10002910-1777804200-1777809600@roltampa.org
SUMMARY:Sunday Service
DESCRIPTION:
URL:https://roltampa.org/event/sunday-service/2026-05-03/
LOCATION:River of Life Church\, 410 East Chapman Road\, Lutz\, FL\, 33549\, United States
CATEGORIES:Services
ATTACH;FMTTYPE=image/png:https://roltampa.org/wp-content/uploads/2022/11/ROL_Logo_8_20_200_site3.png
ORGANIZER;CN="River of Life Church":MAILTO:info@roltampa.org
END:VEVENT
BEGIN:VEVENT
DTSTART;TZID=America/New_York:20260510T103000
DTEND;TZID=America/New_York:20260510T120000
DTSTAMP:20260421T233452
CREATED:20241030T131119Z
LAST-MODIFIED:20241030T131328Z
UID:10002911-1778409000-1778414400@roltampa.org
SUMMARY:Sunday Service
DESCRIPTION:
URL:https://roltampa.org/event/sunday-service/2026-05-10/
LOCATION:River of Life Church\, 410 East Chapman Road\, Lutz\, FL\, 33549\, United States
CATEGORIES:Services
ATTACH;FMTTYPE=image/png:https://roltampa.org/wp-content/uploads/2022/11/ROL_Logo_8_20_200_site3.png
ORGANIZER;CN="River of Life Church":MAILTO:info@roltampa.org
END:VEVENT
BEGIN:VEVENT
DTSTART;TZID=America/New_York:20260517T103000
DTEND;TZID=America/New_York:20260517T120000
DTSTAMP:20260421T233452
CREATED:20241030T131119Z
LAST-MODIFIED:20241030T131328Z
UID:10002912-1779013800-1779019200@roltampa.org
SUMMARY:Sunday Service
DESCRIPTION:
URL:https://roltampa.org/event/sunday-service/2026-05-17/
LOCATION:River of Life Church\, 410 East Chapman Road\, Lutz\, FL\, 33549\, United States
CATEGORIES:Services
ATTACH;FMTTYPE=image/png:https://roltampa.org/wp-content/uploads/2022/11/ROL_Logo_8_20_200_site3.png
ORGANIZER;CN="River of Life Church":MAILTO:info@roltampa.org
END:VEVENT
BEGIN:VEVENT
DTSTART;TZID=America/New_York:20260524T103000
DTEND;TZID=America/New_York:20260524T120000
DTSTAMP:20260421T233452
CREATED:20241030T131119Z
LAST-MODIFIED:20241030T131328Z
UID:10002913-1779618600-1779624000@roltampa.org
SUMMARY:Sunday Service
DESCRIPTION:
URL:https://roltampa.org/event/sunday-service/2026-05-24/
LOCATION:River of Life Church\, 410 East Chapman Road\, Lutz\, FL\, 33549\, United States
CATEGORIES:Services
ATTACH;FMTTYPE=image/png:https://roltampa.org/wp-content/uploads/2022/11/ROL_Logo_8_20_200_site3.png
ORGANIZER;CN="River of Life Church":MAILTO:info@roltampa.org
END:VEVENT
BEGIN:VEVENT
DTSTART;TZID=America/New_York:20260531T103000
DTEND;TZID=America/New_York:20260531T120000
DTSTAMP:20260421T233452
CREATED:20241030T131119Z
LAST-MODIFIED:20241030T131328Z
UID:10002914-1780223400-1780228800@roltampa.org
SUMMARY:Sunday Service
DESCRIPTION:
URL:https://roltampa.org/event/sunday-service/2026-05-31/
LOCATION:River of Life Church\, 410 East Chapman Road\, Lutz\, FL\, 33549\, United States
CATEGORIES:Services
ATTACH;FMTTYPE=image/png:https://roltampa.org/wp-content/uploads/2022/11/ROL_Logo_8_20_200_site3.png
ORGANIZER;CN="River of Life Church":MAILTO:info@roltampa.org
END:VEVENT
BEGIN:VEVENT
DTSTART;TZID=America/New_York:20260607T103000
DTEND;TZID=America/New_York:20260607T120000
DTSTAMP:20260421T233452
CREATED:20241030T131119Z
LAST-MODIFIED:20241030T131328Z
UID:10002915-1780828200-1780833600@roltampa.org
SUMMARY:Sunday Service
DESCRIPTION:
URL:https://roltampa.org/event/sunday-service/2026-06-07/
LOCATION:River of Life Church\, 410 East Chapman Road\, Lutz\, FL\, 33549\, United States
CATEGORIES:Services
ATTACH;FMTTYPE=image/png:https://roltampa.org/wp-content/uploads/2022/11/ROL_Logo_8_20_200_site3.png
ORGANIZER;CN="River of Life Church":MAILTO:info@roltampa.org
END:VEVENT
BEGIN:VEVENT
DTSTART;TZID=America/New_York:20260614T103000
DTEND;TZID=America/New_York:20260614T120000
DTSTAMP:20260421T233452
CREATED:20241030T131119Z
LAST-MODIFIED:20241030T131328Z
UID:10002916-1781433000-1781438400@roltampa.org
SUMMARY:Sunday Service
DESCRIPTION:
URL:https://roltampa.org/event/sunday-service/2026-06-14/
LOCATION:River of Life Church\, 410 East Chapman Road\, Lutz\, FL\, 33549\, United States
CATEGORIES:Services
ATTACH;FMTTYPE=image/png:https://roltampa.org/wp-content/uploads/2022/11/ROL_Logo_8_20_200_site3.png
ORGANIZER;CN="River of Life Church":MAILTO:info@roltampa.org
END:VEVENT
BEGIN:VEVENT
DTSTART;TZID=America/New_York:20260621T103000
DTEND;TZID=America/New_York:20260621T120000
DTSTAMP:20260421T233452
CREATED:20241030T131119Z
LAST-MODIFIED:20241030T131328Z
UID:10002917-1782037800-1782043200@roltampa.org
SUMMARY:Sunday Service
DESCRIPTION:
URL:https://roltampa.org/event/sunday-service/2026-06-21/
LOCATION:River of Life Church\, 410 East Chapman Road\, Lutz\, FL\, 33549\, United States
CATEGORIES:Services
ATTACH;FMTTYPE=image/png:https://roltampa.org/wp-content/uploads/2022/11/ROL_Logo_8_20_200_site3.png
ORGANIZER;CN="River of Life Church":MAILTO:info@roltampa.org
END:VEVENT
BEGIN:VEVENT
DTSTART;TZID=America/New_York:20260628T103000
DTEND;TZID=America/New_York:20260628T120000
DTSTAMP:20260421T233452
CREATED:20241030T131119Z
LAST-MODIFIED:20241030T131328Z
UID:10002918-1782642600-1782648000@roltampa.org
SUMMARY:Sunday Service
DESCRIPTION:
URL:https://roltampa.org/event/sunday-service/2026-06-28/
LOCATION:River of Life Church\, 410 East Chapman Road\, Lutz\, FL\, 33549\, United States
CATEGORIES:Services
ATTACH;FMTTYPE=image/png:https://roltampa.org/wp-content/uploads/2022/11/ROL_Logo_8_20_200_site3.png
ORGANIZER;CN="River of Life Church":MAILTO:info@roltampa.org
END:VEVENT
BEGIN:VEVENT
DTSTART;TZID=America/New_York:20260705T103000
DTEND;TZID=America/New_York:20260705T120000
DTSTAMP:20260421T233452
CREATED:20241030T131119Z
LAST-MODIFIED:20241030T131328Z
UID:10002919-1783247400-1783252800@roltampa.org
SUMMARY:Sunday Service
DESCRIPTION:
URL:https://roltampa.org/event/sunday-service/2026-07-05/
LOCATION:River of Life Church\, 410 East Chapman Road\, Lutz\, FL\, 33549\, United States
CATEGORIES:Services
ATTACH;FMTTYPE=image/png:https://roltampa.org/wp-content/uploads/2022/11/ROL_Logo_8_20_200_site3.png
ORGANIZER;CN="River of Life Church":MAILTO:info@roltampa.org
END:VEVENT
BEGIN:VEVENT
DTSTART;TZID=America/New_York:20260712T103000
DTEND;TZID=America/New_York:20260712T120000
DTSTAMP:20260421T233452
CREATED:20241030T131119Z
LAST-MODIFIED:20241030T131328Z
UID:10002920-1783852200-1783857600@roltampa.org
SUMMARY:Sunday Service
DESCRIPTION:
URL:https://roltampa.org/event/sunday-service/2026-07-12/
LOCATION:River of Life Church\, 410 East Chapman Road\, Lutz\, FL\, 33549\, United States
CATEGORIES:Services
ATTACH;FMTTYPE=image/png:https://roltampa.org/wp-content/uploads/2022/11/ROL_Logo_8_20_200_site3.png
ORGANIZER;CN="River of Life Church":MAILTO:info@roltampa.org
END:VEVENT
BEGIN:VEVENT
DTSTART;TZID=America/New_York:20260719T103000
DTEND;TZID=America/New_York:20260719T120000
DTSTAMP:20260421T233452
CREATED:20241030T131119Z
LAST-MODIFIED:20241030T131328Z
UID:10002921-1784457000-1784462400@roltampa.org
SUMMARY:Sunday Service
DESCRIPTION:
URL:https://roltampa.org/event/sunday-service/2026-07-19/
LOCATION:River of Life Church\, 410 East Chapman Road\, Lutz\, FL\, 33549\, United States
CATEGORIES:Services
ATTACH;FMTTYPE=image/png:https://roltampa.org/wp-content/uploads/2022/11/ROL_Logo_8_20_200_site3.png
ORGANIZER;CN="River of Life Church":MAILTO:info@roltampa.org
END:VEVENT
BEGIN:VEVENT
DTSTART;TZID=America/New_York:20260726T103000
DTEND;TZID=America/New_York:20260726T120000
DTSTAMP:20260421T233452
CREATED:20241030T131119Z
LAST-MODIFIED:20241030T131328Z
UID:10002922-1785061800-1785067200@roltampa.org
SUMMARY:Sunday Service
DESCRIPTION:
URL:https://roltampa.org/event/sunday-service/2026-07-26/
LOCATION:River of Life Church\, 410 East Chapman Road\, Lutz\, FL\, 33549\, United States
CATEGORIES:Services
ATTACH;FMTTYPE=image/png:https://roltampa.org/wp-content/uploads/2022/11/ROL_Logo_8_20_200_site3.png
ORGANIZER;CN="River of Life Church":MAILTO:info@roltampa.org
END:VEVENT
BEGIN:VEVENT
DTSTART;TZID=America/New_York:20260802T103000
DTEND;TZID=America/New_York:20260802T120000
DTSTAMP:20260421T233452
CREATED:20241030T131119Z
LAST-MODIFIED:20241030T131328Z
UID:10002923-1785666600-1785672000@roltampa.org
SUMMARY:Sunday Service
DESCRIPTION:
URL:https://roltampa.org/event/sunday-service/2026-08-02/
LOCATION:River of Life Church\, 410 East Chapman Road\, Lutz\, FL\, 33549\, United States
CATEGORIES:Services
ATTACH;FMTTYPE=image/png:https://roltampa.org/wp-content/uploads/2022/11/ROL_Logo_8_20_200_site3.png
ORGANIZER;CN="River of Life Church":MAILTO:info@roltampa.org
END:VEVENT
BEGIN:VEVENT
DTSTART;TZID=America/New_York:20260809T103000
DTEND;TZID=America/New_York:20260809T120000
DTSTAMP:20260421T233452
CREATED:20241030T131119Z
LAST-MODIFIED:20241030T131328Z
UID:10002924-1786271400-1786276800@roltampa.org
SUMMARY:Sunday Service
DESCRIPTION:
URL:https://roltampa.org/event/sunday-service/2026-08-09/
LOCATION:River of Life Church\, 410 East Chapman Road\, Lutz\, FL\, 33549\, United States
CATEGORIES:Services
ATTACH;FMTTYPE=image/png:https://roltampa.org/wp-content/uploads/2022/11/ROL_Logo_8_20_200_site3.png
ORGANIZER;CN="River of Life Church":MAILTO:info@roltampa.org
END:VEVENT
BEGIN:VEVENT
DTSTART;TZID=America/New_York:20260816T103000
DTEND;TZID=America/New_York:20260816T120000
DTSTAMP:20260421T233452
CREATED:20241030T131119Z
LAST-MODIFIED:20241030T131328Z
UID:10002925-1786876200-1786881600@roltampa.org
SUMMARY:Sunday Service
DESCRIPTION:
URL:https://roltampa.org/event/sunday-service/2026-08-16/
LOCATION:River of Life Church\, 410 East Chapman Road\, Lutz\, FL\, 33549\, United States
CATEGORIES:Services
ATTACH;FMTTYPE=image/png:https://roltampa.org/wp-content/uploads/2022/11/ROL_Logo_8_20_200_site3.png
ORGANIZER;CN="River of Life Church":MAILTO:info@roltampa.org
END:VEVENT
BEGIN:VEVENT
DTSTART;TZID=America/New_York:20260823T103000
DTEND;TZID=America/New_York:20260823T120000
DTSTAMP:20260421T233452
CREATED:20241030T131119Z
LAST-MODIFIED:20241030T131328Z
UID:10002926-1787481000-1787486400@roltampa.org
SUMMARY:Sunday Service
DESCRIPTION:
URL:https://roltampa.org/event/sunday-service/2026-08-23/
LOCATION:River of Life Church\, 410 East Chapman Road\, Lutz\, FL\, 33549\, United States
CATEGORIES:Services
ATTACH;FMTTYPE=image/png:https://roltampa.org/wp-content/uploads/2022/11/ROL_Logo_8_20_200_site3.png
ORGANIZER;CN="River of Life Church":MAILTO:info@roltampa.org
END:VEVENT
BEGIN:VEVENT
DTSTART;TZID=America/New_York:20260830T103000
DTEND;TZID=America/New_York:20260830T120000
DTSTAMP:20260421T233452
CREATED:20241030T131119Z
LAST-MODIFIED:20241030T131328Z
UID:10002927-1788085800-1788091200@roltampa.org
SUMMARY:Sunday Service
DESCRIPTION:
URL:https://roltampa.org/event/sunday-service/2026-08-30/
LOCATION:River of Life Church\, 410 East Chapman Road\, Lutz\, FL\, 33549\, United States
CATEGORIES:Services
ATTACH;FMTTYPE=image/png:https://roltampa.org/wp-content/uploads/2022/11/ROL_Logo_8_20_200_site3.png
ORGANIZER;CN="River of Life Church":MAILTO:info@roltampa.org
END:VEVENT
BEGIN:VEVENT
DTSTART;TZID=America/New_York:20260906T103000
DTEND;TZID=America/New_York:20260906T120000
DTSTAMP:20260421T233452
CREATED:20241030T131119Z
LAST-MODIFIED:20241030T131328Z
UID:10002928-1788690600-1788696000@roltampa.org
SUMMARY:Sunday Service
DESCRIPTION:
URL:https://roltampa.org/event/sunday-service/2026-09-06/
LOCATION:River of Life Church\, 410 East Chapman Road\, Lutz\, FL\, 33549\, United States
CATEGORIES:Services
ATTACH;FMTTYPE=image/png:https://roltampa.org/wp-content/uploads/2022/11/ROL_Logo_8_20_200_site3.png
ORGANIZER;CN="River of Life Church":MAILTO:info@roltampa.org
END:VEVENT
BEGIN:VEVENT
DTSTART;TZID=America/New_York:20260913T103000
DTEND;TZID=America/New_York:20260913T120000
DTSTAMP:20260421T233452
CREATED:20241030T131119Z
LAST-MODIFIED:20241030T131328Z
UID:10002929-1789295400-1789300800@roltampa.org
SUMMARY:Sunday Service
DESCRIPTION:
URL:https://roltampa.org/event/sunday-service/2026-09-13/
LOCATION:River of Life Church\, 410 East Chapman Road\, Lutz\, FL\, 33549\, United States
CATEGORIES:Services
ATTACH;FMTTYPE=image/png:https://roltampa.org/wp-content/uploads/2022/11/ROL_Logo_8_20_200_site3.png
ORGANIZER;CN="River of Life Church":MAILTO:info@roltampa.org
END:VEVENT
BEGIN:VEVENT
DTSTART;TZID=America/New_York:20260920T103000
DTEND;TZID=America/New_York:20260920T120000
DTSTAMP:20260421T233452
CREATED:20241030T131119Z
LAST-MODIFIED:20241030T131328Z
UID:10002930-1789900200-1789905600@roltampa.org
SUMMARY:Sunday Service
DESCRIPTION:
URL:https://roltampa.org/event/sunday-service/2026-09-20/
LOCATION:River of Life Church\, 410 East Chapman Road\, Lutz\, FL\, 33549\, United States
CATEGORIES:Services
ATTACH;FMTTYPE=image/png:https://roltampa.org/wp-content/uploads/2022/11/ROL_Logo_8_20_200_site3.png
ORGANIZER;CN="River of Life Church":MAILTO:info@roltampa.org
END:VEVENT
BEGIN:VEVENT
DTSTART;TZID=America/New_York:20260927T103000
DTEND;TZID=America/New_York:20260927T120000
DTSTAMP:20260421T233452
CREATED:20241030T131119Z
LAST-MODIFIED:20241030T131328Z
UID:10002931-1790505000-1790510400@roltampa.org
SUMMARY:Sunday Service
DESCRIPTION:
URL:https://roltampa.org/event/sunday-service/2026-09-27/
LOCATION:River of Life Church\, 410 East Chapman Road\, Lutz\, FL\, 33549\, United States
CATEGORIES:Services
ATTACH;FMTTYPE=image/png:https://roltampa.org/wp-content/uploads/2022/11/ROL_Logo_8_20_200_site3.png
ORGANIZER;CN="River of Life Church":MAILTO:info@roltampa.org
END:VEVENT
BEGIN:VEVENT
DTSTART;TZID=America/New_York:20261004T103000
DTEND;TZID=America/New_York:20261004T120000
DTSTAMP:20260421T233452
CREATED:20241030T131119Z
LAST-MODIFIED:20241030T131328Z
UID:10002932-1791109800-1791115200@roltampa.org
SUMMARY:Sunday Service
DESCRIPTION:
URL:https://roltampa.org/event/sunday-service/2026-10-04/
LOCATION:River of Life Church\, 410 East Chapman Road\, Lutz\, FL\, 33549\, United States
CATEGORIES:Services
ATTACH;FMTTYPE=image/png:https://roltampa.org/wp-content/uploads/2022/11/ROL_Logo_8_20_200_site3.png
ORGANIZER;CN="River of Life Church":MAILTO:info@roltampa.org
END:VEVENT
BEGIN:VEVENT
DTSTART;TZID=America/New_York:20261011T103000
DTEND;TZID=America/New_York:20261011T120000
DTSTAMP:20260421T233452
CREATED:20241030T131119Z
LAST-MODIFIED:20241030T131328Z
UID:10002933-1791714600-1791720000@roltampa.org
SUMMARY:Sunday Service
DESCRIPTION:
URL:https://roltampa.org/event/sunday-service/2026-10-11/
LOCATION:River of Life Church\, 410 East Chapman Road\, Lutz\, FL\, 33549\, United States
CATEGORIES:Services
ATTACH;FMTTYPE=image/png:https://roltampa.org/wp-content/uploads/2022/11/ROL_Logo_8_20_200_site3.png
ORGANIZER;CN="River of Life Church":MAILTO:info@roltampa.org
END:VEVENT
BEGIN:VEVENT
DTSTART;TZID=America/New_York:20261018T103000
DTEND;TZID=America/New_York:20261018T120000
DTSTAMP:20260421T233452
CREATED:20241030T131119Z
LAST-MODIFIED:20241030T131328Z
UID:10002934-1792319400-1792324800@roltampa.org
SUMMARY:Sunday Service
DESCRIPTION:
URL:https://roltampa.org/event/sunday-service/2026-10-18/
LOCATION:River of Life Church\, 410 East Chapman Road\, Lutz\, FL\, 33549\, United States
CATEGORIES:Services
ATTACH;FMTTYPE=image/png:https://roltampa.org/wp-content/uploads/2022/11/ROL_Logo_8_20_200_site3.png
ORGANIZER;CN="River of Life Church":MAILTO:info@roltampa.org
END:VEVENT
BEGIN:VEVENT
DTSTART;TZID=America/New_York:20261025T103000
DTEND;TZID=America/New_York:20261025T120000
DTSTAMP:20260421T233452
CREATED:20241030T131119Z
LAST-MODIFIED:20241030T131328Z
UID:10002935-1792924200-1792929600@roltampa.org
SUMMARY:Sunday Service
DESCRIPTION:
URL:https://roltampa.org/event/sunday-service/2026-10-25/
LOCATION:River of Life Church\, 410 East Chapman Road\, Lutz\, FL\, 33549\, United States
CATEGORIES:Services
ATTACH;FMTTYPE=image/png:https://roltampa.org/wp-content/uploads/2022/11/ROL_Logo_8_20_200_site3.png
ORGANIZER;CN="River of Life Church":MAILTO:info@roltampa.org
END:VEVENT
BEGIN:VEVENT
DTSTART;TZID=America/New_York:20261101T103000
DTEND;TZID=America/New_York:20261101T120000
DTSTAMP:20260421T233452
CREATED:20241030T131119Z
LAST-MODIFIED:20241030T131328Z
UID:10002936-1793529000-1793534400@roltampa.org
SUMMARY:Sunday Service
DESCRIPTION:
URL:https://roltampa.org/event/sunday-service/2026-11-01/
LOCATION:River of Life Church\, 410 East Chapman Road\, Lutz\, FL\, 33549\, United States
CATEGORIES:Services
ATTACH;FMTTYPE=image/png:https://roltampa.org/wp-content/uploads/2022/11/ROL_Logo_8_20_200_site3.png
ORGANIZER;CN="River of Life Church":MAILTO:info@roltampa.org
END:VEVENT
BEGIN:VEVENT
DTSTART;TZID=America/New_York:20261108T103000
DTEND;TZID=America/New_York:20261108T120000
DTSTAMP:20260421T233452
CREATED:20241030T131119Z
LAST-MODIFIED:20241030T131328Z
UID:10002937-1794133800-1794139200@roltampa.org
SUMMARY:Sunday Service
DESCRIPTION:
URL:https://roltampa.org/event/sunday-service/2026-11-08/
LOCATION:River of Life Church\, 410 East Chapman Road\, Lutz\, FL\, 33549\, United States
CATEGORIES:Services
ATTACH;FMTTYPE=image/png:https://roltampa.org/wp-content/uploads/2022/11/ROL_Logo_8_20_200_site3.png
ORGANIZER;CN="River of Life Church":MAILTO:info@roltampa.org
END:VEVENT
BEGIN:VEVENT
DTSTART;TZID=America/New_York:20261115T103000
DTEND;TZID=America/New_York:20261115T120000
DTSTAMP:20260421T233452
CREATED:20241030T131119Z
LAST-MODIFIED:20241030T131328Z
UID:10002938-1794738600-1794744000@roltampa.org
SUMMARY:Sunday Service
DESCRIPTION:
URL:https://roltampa.org/event/sunday-service/2026-11-15/
LOCATION:River of Life Church\, 410 East Chapman Road\, Lutz\, FL\, 33549\, United States
CATEGORIES:Services
ATTACH;FMTTYPE=image/png:https://roltampa.org/wp-content/uploads/2022/11/ROL_Logo_8_20_200_site3.png
ORGANIZER;CN="River of Life Church":MAILTO:info@roltampa.org
END:VEVENT
END:VCALENDAR